BEGIN:VCALENDAR
VERSION:2.0
PRODID:-//SVP Bezirk Winterthur //NONSGML Events //EN
CALSCALE:GREGORIAN
X-WR-CALNAME:SVP Bezirk Winterthur
BEGIN:VEVENT
CREATED:20260420T142458Z
UID:4257
DTEND:20260502T110000
DTSTART:20260502T100000
DTSTAMP:20260420T223739Z
LOCATION:Lindehus Turbenthal\, Lindenweg 2
DESCRIPTION:Wir freuen uns über Ihr Kommen! 
SUMMARY:Podiumsdiskussion zur Initiative &#8222\;Keine 10-Millionen-Schweiz&#8220\; und zum EU-Unterwerfungsvertrag
ORGANIZER:
URL;VALUE=URI:https://www.svp-bezirk-winterthur.ch/termine/podiumsdiskussion-zur-initiative-keine-10-millionen-schweiz-und-zum-eu-unterwerfungsvertrag/
TRANSP:OPAQUE
END:VEVENT
END:VCALENDAR
