BEGIN:VCALENDAR
VERSION:2.0
PRODID:-//SVP Bezirk Winterthur //NONSGML Events //EN
CALSCALE:GREGORIAN
X-WR-CALNAME:SVP Bezirk Winterthur
BEGIN:VEVENT
CREATED:20260420T142053Z
UID:4255
DTEND:20260606T000000
DTSTART:20260606T000000
DTSTAMP:20260420T224400Z
LOCATION:Mehlhüsli\, Neftenbach
DESCRIPTION:Wir freuen uns auf Ihr Kommen!
SUMMARY:Öffentliche Veranstaltung &#8222\;EU-Unterwerfungsvertrag NEIN&#8220\; mit NR Barbara Steinemann und aBR Ueli Maurer
ORGANIZER:
URL;VALUE=URI:https://www.svp-bezirk-winterthur.ch/termine/oeffentliche-veranstaltung-eu-unterwerfungsvertrag-nein-mit-nr-barbara-steinemann-und-abr-ueli-maurer/
TRANSP:OPAQUE
END:VEVENT
END:VCALENDAR
