BEGIN:VCALENDAR
VERSION:2.0
PRODID:-//SVP Bezirk Winterthur //NONSGML Events //EN
CALSCALE:GREGORIAN
X-WR-CALNAME:SVP Bezirk Winterthur
BEGIN:VEVENT
CREATED:20260420T141630Z
UID:4251
DTEND:20260509T140000
DTSTART:20260509T100000
DTSTAMP:20260420T224507Z
LOCATION:
DESCRIPTION:Interessante Gespräche bei einer feinen Wurst. Wir freuen uns auf Ihr
SUMMARY:SVP Grill-Anlass
ORGANIZER:
URL;VALUE=URI:https://www.svp-bezirk-winterthur.ch/termine/svp-grill-anlass/
TRANSP:OPAQUE
END:VEVENT
END:VCALENDAR
