BEGIN:VCALENDAR
VERSION:2.0
PRODID:-//SVP Bezirk Winterthur //NONSGML Events //EN
CALSCALE:GREGORIAN
X-WR-CALNAME:SVP Bezirk Winterthur
BEGIN:VEVENT
CREATED:20250820T060130Z
UID:4036
DTEND:20250919T190000
DTSTART:20250919T183000
DTSTAMP:20260421T090312Z
LOCATION:
DESCRIPTION:Firma NUP, Zürcherstrasse 340, Winterthur.
SUMMARY:Bezirk Winterthur: Behördenanlass
ORGANIZER:
URL;VALUE=URI:https://www.svp-bezirk-winterthur.ch/termine/bezirk-winterthur-behoerdenanlass-2/
TRANSP:OPAQUE
END:VEVENT
END:VCALENDAR
