BEGIN:VCALENDAR
VERSION:2.0
PRODID:-//SVP Bezirk Winterthur //NONSGML Events //EN
CALSCALE:GREGORIAN
X-WR-CALNAME:SVP Bezirk Winterthur
BEGIN:VEVENT
CREATED:20250504T125313Z
UID:3967
DTEND:20250921T000000
DTSTART:20250917T000000
DTSTAMP:20260420T211103Z
LOCATION:Ohringen
DESCRIPTION:
SUMMARY:900 Jahre Ohringen
ORGANIZER:
URL;VALUE=URI:https://www.svp-bezirk-winterthur.ch/termine/900-jahre-ohringen/
TRANSP:OPAQUE
END:VEVENT
END:VCALENDAR
