BEGIN:VCALENDAR
VERSION:2.0
PRODID:-//SVP Bezirk Winterthur //NONSGML Events //EN
CALSCALE:GREGORIAN
X-WR-CALNAME:SVP Bezirk Winterthur
BEGIN:VEVENT
CREATED:20240409T214037Z
UID:3535
DTEND:20240903T000000
DTSTART:20240903T000000
DTSTAMP:20260421T090443Z
LOCATION:
DESCRIPTION:
SUMMARY:Delegiertenversammlung SVP Kanton Zürich
ORGANIZER:
URL;VALUE=URI:https://www.svp-bezirk-winterthur.ch/termine/delegiertenversammlung-des-kantons-zuerich-2/
TRANSP:OPAQUE
END:VEVENT
END:VCALENDAR
